BEGIN:VCALENDAR
VERSION:2.0
PRODID:-//ChamberMaster//Event Calendar 2.0//EN
METHOD:PUBLISH
X-PUBLISHED-TTL:P3D
REFRESH-INTERVAL:P3D
CALSCALE:GREGORIAN
BEGIN:VEVENT
DTSTART:20121025T230000Z
DTEND:20121026T010000Z
X-MICROSOFT-CDO-ALLDAYEVENT:FALSE
SUMMARY:Celebrating an Inspirational Journey Presented by RGV & Beyond Arts & More
DESCRIPTION:Celebrating an Inspirational Journey Presented by RGV & Beyond Arts & More. Come by and meet artist Marc Pouhe!  FREE!  For more information\, please call Denise Meyners at (956) 244-0440.
X-ALT-DESC;FMTTYPE=text/html:Celebrating an Inspirational Journey Presented by RGV & Beyond Arts & More. Come by and meet artist Marc Pouhe!  FREE!  For more information\, please call Denise Meyners at (956) 244-0440.  \n
LOCATION:
UID:e.1828.4118
SEQUENCE:3
DTSTAMP:20260422T085757Z
URL:https://business.harlingen.com/events/details/celebrating-an-inspirational-journey-presented-by-rgv-beyond-arts-more-10-25-2012-4118
END:VEVENT

END:VCALENDAR
