BEGIN:VCALENDAR
VERSION:2.0
PRODID:-//ChamberMaster//Event Calendar 2.0//EN
METHOD:PUBLISH
X-PUBLISHED-TTL:P3D
REFRESH-INTERVAL:P3D
CALSCALE:GREGORIAN
BEGIN:VEVENT
DTSTART:20100307T213000Z
DTEND:20100307T213000Z
X-MICROSOFT-CDO-ALLDAYEVENT:FALSE
SUMMARY:CENTENNIAL CELEBRATION CONCERT
DESCRIPTION:The City of Harlingen\, in partnership with the Valley Symphony Orchestra and Chorale\, presents a CENTENNIAL CELEBRATION CONCERT on Sunday\, March 7 at 4:00 pm. Tickets start at $20.  A reception starting at 3:30 is included in the price of the ticket. For ticket information visit www.harlingenarts.com or call 956.216.5990.  To inquire about Senior & Student discounts\, please call 956-661-1615.  For other information about the orchestra\, visit their website at www.valleyorchestra.org
X-ALT-DESC;FMTTYPE=text/html:The City of Harlingen\, in partnership with the Valley Symphony Orchestra and Chorale\, presents a CENTENNIAL CELEBRATION CONCERT on Sunday\, March 7 at 4:00 pm. Tickets start at $20.  A reception starting at 3:30 is included in the price of the ticket. For ticket information visit www.harlingenarts.com or call 956.216.5990.  To inquire about Senior & Student discounts\, please call 956-661-1615.  For other information about the orchestra\, visit their website at www.valleyorchestra.org
LOCATION:
UID:e.1828.2408
SEQUENCE:3
DTSTAMP:20260422T080726Z
URL:https://business.harlingen.com/events/details/centennial-celebration-concert-03-07-2010-2408
END:VEVENT

END:VCALENDAR
