BEGIN:VCALENDAR
VERSION:2.0
PRODID:-//ChamberMaster//Event Calendar 2.0//EN
METHOD:PUBLISH
X-PUBLISHED-TTL:P3D
REFRESH-INTERVAL:P3D
CALSCALE:GREGORIAN
BEGIN:VEVENT
DTSTART:20110215T153000Z
DTEND:20110215T173000Z
X-MICROSOFT-CDO-ALLDAYEVENT:FALSE
SUMMARY:Center for Creative Retirement Lecture Series - Black History Month
DESCRIPTION:Meizie Lofton will discuss Black history in Harlingen and the Valley from the days when the Buffalo Soldiers were based at Fort Brown and black workers helped erect the Brownsville-Eagle Pass telegraph lines up to the present.   9:30 to 11:30 at the African American Community Center 925 West Pierce.  $5 fee for non-members.  For more information\, please contact Maggie Ortiz at the Harlingen Area Chamber of Commerce at (956) 423-5440.
X-ALT-DESC;FMTTYPE=text/html:Meizie Lofton will discuss Black history in Harlingen and the Valley from the days when the Buffalo Soldiers were based at Fort Brown and black workers helped erect the Brownsville-Eagle Pass telegraph lines up to the present.   9:30 to 11:30 at the African American Community Center 925 West Pierce.  $5 fee for non-members.  For more information\, please contact Maggie Ortiz at the Harlingen Area Chamber of Commerce at (956) 423-5440.\n
LOCATION:
UID:e.1828.2697
SEQUENCE:3
DTSTAMP:20260421T142535Z
URL:https://business.harlingen.com/events/details/center-for-creative-retirement-lecture-series-black-history-month-02-15-2011-2697
END:VEVENT

END:VCALENDAR
