BEGIN:VCALENDAR
VERSION:2.0
PRODID:-//ChamberMaster//Event Calendar 2.0//EN
METHOD:PUBLISH
X-PUBLISHED-TTL:P3D
REFRESH-INTERVAL:P3D
CALSCALE:GREGORIAN
BEGIN:VEVENT
DTSTART:20110419T143000Z
DTEND:20110419T163000Z
X-MICROSOFT-CDO-ALLDAYEVENT:FALSE
SUMMARY:Center for Creative Retirement Lecture Series - Easter and Archaeology
DESCRIPTION:Al and Betty Hoerth will share their archaeological experiences and photography relating to Easter in the Middle East as compared to Easter as it is celebrated here in the Rio Grande Valley.  9:30 to 11:30 am at the Harlingen Public Library.  $5 fee for non-members.  For more information\, please contact Maggie Ortiz at the Harlingen Area Chamber of Commerce at (956) 423-5440.
X-ALT-DESC;FMTTYPE=text/html:Al and Betty Hoerth will share their archaeological experiences and photography relating to Easter in the Middle East as compared to Easter as it is celebrated here in the Rio Grande Valley.  9:30 to 11:30 am at the Harlingen Public Library.  $5 fee for non-members.  For more information\, please contact Maggie Ortiz at the Harlingen Area Chamber of Commerce at (956) 423-5440.\n
LOCATION:
UID:e.1828.2704
SEQUENCE:3
DTSTAMP:20260421T111739Z
URL:https://business.harlingen.com/events/details/center-for-creative-retirement-lecture-series-easter-and-archaeology-04-19-2011-2704
END:VEVENT

END:VCALENDAR
