BEGIN:VCALENDAR
VERSION:2.0
PRODID:-//ChamberMaster//Event Calendar 2.0//EN
METHOD:PUBLISH
X-PUBLISHED-TTL:P3D
REFRESH-INTERVAL:P3D
CALSCALE:GREGORIAN
BEGIN:VEVENT
DTSTART:20110118T153000Z
DTEND:20110118T173000Z
X-MICROSOFT-CDO-ALLDAYEVENT:FALSE
SUMMARY:Center for Creative Retirement Lecture Series - King Cotton and the Rio Grande Valley
DESCRIPTION:A panel of cotton growers\, brokers\, and major players will share the history\, personal stories\, important events and legends of this vital Valley industry up to the present.  9:30 to 11:30 AM at the Harlingen Public Library.  $5 fee for non-members.  For more information\, please contact Maggie Ortiz at the Harlingen Area Chamber of Commerce at (956) 423-5440.
X-ALT-DESC;FMTTYPE=text/html:A panel of cotton growers\, brokers\, and major players will share the history\, personal stories\, important events and legends of this vital Valley industry up to the present.  9:30 to 11:30 AM at the Harlingen Public Library.  $5 fee for non-members.  For more information\, please contact Maggie Ortiz at the Harlingen Area Chamber of Commerce at (956) 423-5440.\n
LOCATION:
UID:e.1828.2695
SEQUENCE:3
DTSTAMP:20260421T172041Z
URL:https://business.harlingen.com/events/details/center-for-creative-retirement-lecture-series-king-cotton-and-the-rio-grande-valley-01-18-2011-2695
END:VEVENT

END:VCALENDAR
