BEGIN:VCALENDAR
VERSION:2.0
PRODID:-//ChamberMaster//Event Calendar 2.0//EN
METHOD:PUBLISH
X-PUBLISHED-TTL:P3D
REFRESH-INTERVAL:P3D
CALSCALE:GREGORIAN
BEGIN:VEVENT
DTSTART:20091020T143000Z
DTEND:20091020T163000Z
X-MICROSOFT-CDO-ALLDAYEVENT:FALSE
SUMMARY:Center for Creative Retirement Lecture Series Presents Susan Johnson
DESCRIPTION:The Center for Creative Retirement Lecture Series Presents Susan Johnson.  Ms. Johnson will speak on her two week trip to India.  Share her photo impressions of this complex sub-continent.  The meeting will be from 9:30 to 11:30 AM at the Loaves and Fishes\, 514 South ''E'' St.  $5 fee for non-members.  For membership information\, please contact the Harlingen Area Chamber of Commerce at 956-423-5440.
X-ALT-DESC;FMTTYPE=text/html:The Center for Creative Retirement Lecture Series Presents Susan Johnson.  Ms. Johnson will speak on her two week trip to India.  Share her photo impressions of this complex sub-continent.  The meeting will be from 9:30 to 11:30 AM at the Loaves and Fishes\, 514 South ''E'' St.  $5 fee for non-members.  For membership information\, please contact the Harlingen Area Chamber of Commerce at 956-423-5440.\n\n\n
LOCATION:
UID:e.1828.2032
SEQUENCE:3
DTSTAMP:20260422T112009Z
URL:https://business.harlingen.com/events/details/center-for-creative-retirement-lecture-series-presents-susan-johnson-10-20-2009-2032
END:VEVENT

END:VCALENDAR
