BEGIN:VCALENDAR
VERSION:2.0
PRODID:-//ChamberMaster//Event Calendar 2.0//EN
METHOD:PUBLISH
X-PUBLISHED-TTL:P3D
REFRESH-INTERVAL:P3D
CALSCALE:GREGORIAN
BEGIN:VEVENT
DTSTART:20101116T153000Z
DTEND:20101116T173000Z
X-MICROSOFT-CDO-ALLDAYEVENT:FALSE
SUMMARY:Center for Creative Retirement Lecture Series - Valley Authors
DESCRIPTION:Local Valley authors Mona Sizer\, Eileen Mattei\, Carlos Cisneros\, Don Clifford\, Verne Wheelwright and others will discuss their books and some of the changes taking place in the book publishing industry. 9:30 to 11:30 am at the Harlingen Public Library.  $5 fee for non-members.  For more information\, please contact Maggie Ortiz at the Harlingen Area Chamber of Commerce at (956) 423-5440.
X-ALT-DESC;FMTTYPE=text/html:Local Valley authors Mona Sizer\, Eileen Mattei\, Carlos Cisneros\, Don Clifford\, Verne Wheelwright and others will discuss their books and some of the changes taking place in the book publishing industry. 9:30 to 11:30 am at the Harlingen Public Library.  $5 fee for non-members.  For more information\, please contact Maggie Ortiz at the Harlingen Area Chamber of Commerce at (956) 423-5440.\n
LOCATION:
UID:e.1828.2683
SEQUENCE:3
DTSTAMP:20260421T203639Z
URL:https://business.harlingen.com/events/details/center-for-creative-retirement-lecture-series-valley-authors-11-16-2010-2683
END:VEVENT

END:VCALENDAR
