BEGIN:VCALENDAR
VERSION:2.0
PRODID:-//ChamberMaster//Event Calendar 2.0//EN
METHOD:PUBLISH
X-PUBLISHED-TTL:P3D
REFRESH-INTERVAL:P3D
CALSCALE:GREGORIAN
BEGIN:VEVENT
DTSTART:20101019T143000Z
DTEND:20101019T163000Z
X-MICROSOFT-CDO-ALLDAYEVENT:FALSE
SUMMARY:Center for Creative Retirement Lecture Series - ''What's So Hot About The Holy Land?''
DESCRIPTION:Father Scott Brown\, rector of St. Alban's Episcopal Church will narrate and show slides of his recent journey to Israel. See Bethlehem\, the Dead Sea\, the Sea of Galilee\, Nazareth\, Jerusalem and more. 9:30 to 11:30 am at the Harlingen Public Library.  $5 fee for non-members.  For more information\, please contact Maggie Ortiz at the Harlingen Area Chamber of Commerce at (956) 423-5440.
X-ALT-DESC;FMTTYPE=text/html:Father Scott Brown\, rector of St. Alban's Episcopal Church will narrate and show slides of his recent journey to Israel. See Bethlehem\, the Dead Sea\, the Sea of Galilee\, Nazareth\, Jerusalem and more. 9:30 to 11:30 am at the Harlingen Public Library.  $5 fee for non-members.  For more information\, please contact Maggie Ortiz at the Harlingen Area Chamber of Commerce at (956) 423-5440.\n
LOCATION:
UID:e.1828.2671
SEQUENCE:3
DTSTAMP:20260421T223531Z
URL:https://business.harlingen.com/events/details/center-for-creative-retirement-lecture-series-what-s-so-hot-about-the-holy-land-10-19-2010-2671
END:VEVENT

END:VCALENDAR
