BEGIN:VCALENDAR
VERSION:2.0
PRODID:-//ChamberMaster//Event Calendar 2.0//EN
METHOD:PUBLISH
X-PUBLISHED-TTL:P3D
REFRESH-INTERVAL:P3D
CALSCALE:GREGORIAN
BEGIN:VEVENT
DTSTART:20100420T143000Z
DTEND:20100420T163000Z
X-MICROSOFT-CDO-ALLDAYEVENT:FALSE
SUMMARY:Center for Creative Retirement Presents a History of Harlingen's Downtown
DESCRIPTION:Come learn about Harlingen's Downtown from the early days to the present.  Harlingen turns 100 in April 2010!  Come join in the celebrations as Downtown Manager Cheryl LaBerge narrates a slide presentation on Harlingen's history then leads us on a walking tour of the old downtown area. 9:30 to 11:30 AM at D'Arte Centre Gallery\, 115 E. Jackson (free parking in the City lot behind the Centre).  $5 for non-members.  For membership information\, please contact the Harlingen Area Chamber of Commerce at 956-423-5440.
X-ALT-DESC;FMTTYPE=text/html:Come learn about Harlingen's Downtown from the early days to the present.  Harlingen turns 100 in April 2010!  Come join in the celebrations as Downtown Manager Cheryl LaBerge narrates a slide presentation on Harlingen's history then leads us on a walking tour of the old downtown area. 9:30 to 11:30 AM at D'Arte Centre Gallery\, 115 E. Jackson (free parking in the City lot behind the Centre).  $5 for non-members.  For membership information\, please contact the Harlingen Area Chamber of Commerce at 956-423-5440.\n\n\n\n\n\n
LOCATION:
UID:e.1828.2037
SEQUENCE:3
DTSTAMP:20260422T081111Z
URL:https://business.harlingen.com/events/details/center-for-creative-retirement-presents-a-history-of-harlingen-s-downtown-04-20-2010-2037
END:VEVENT

END:VCALENDAR
