BEGIN:VCALENDAR
VERSION:2.0
PRODID:-//ChamberMaster//Event Calendar 2.0//EN
METHOD:PUBLISH
X-PUBLISHED-TTL:P3D
REFRESH-INTERVAL:P3D
CALSCALE:GREGORIAN
BEGIN:VEVENT
DTSTART:20100518T143000Z
DTEND:20100518T163000Z
X-MICROSOFT-CDO-ALLDAYEVENT:FALSE
SUMMARY:Center for Creative Retirement Presents Harlingen's Boy Scouts & Girl Scouts
DESCRIPTION:Please join us for a presentation by Diana Trevino of the Harlingen Council of Girl Scouts and Ernesto Castro of the Harlingen Council of Boy Scouts. Come see how scouting has changed over the years and what our grandchildren are learning now!  9:30 to 11:30 AM at the Harlingen Public Library.  $5 for non-members.  For membership information\, please contact the Harlingen Area Chamber of Commerce at 956-423-5440.
X-ALT-DESC;FMTTYPE=text/html:Please join us for a presentation by Diana Trevino of the Harlingen Council of Girl Scouts and Ernesto Castro of the Harlingen Council of Boy Scouts. Come see how scouting has changed over the years and what our grandchildren are learning now!  9:30 to 11:30 AM at the Harlingen Public Library.  $5 for non-members.  For membership information\, please contact the Harlingen Area Chamber of Commerce at 956-423-5440.\n\n\n\n\n\n
LOCATION:
UID:e.1828.2038
SEQUENCE:3
DTSTAMP:20260422T063233Z
URL:https://business.harlingen.com/events/details/center-for-creative-retirement-presents-harlingen-s-boy-scouts-girl-scouts-05-18-2010-2038
END:VEVENT

END:VCALENDAR
