BEGIN:VCALENDAR
VERSION:2.0
PRODID:-//ChamberMaster//Event Calendar 2.0//EN
METHOD:PUBLISH
X-PUBLISHED-TTL:P3D
REFRESH-INTERVAL:P3D
CALSCALE:GREGORIAN
BEGIN:VEVENT
DTSTART:20100216T153000Z
DTEND:20100216T173000Z
X-MICROSOFT-CDO-ALLDAYEVENT:FALSE
SUMMARY:Center for Creative Retirement Presents HCISD Superintendent\, Dr. Steve Flores
DESCRIPTION:Superintendent of the Harlingen Consolidated Independent School District\, Dr. Steve Flores\, will speak about Harlingen's schools\, followed by student performers.  9:30 to 11:30AM at the Harlingen Public Library.  $5 for non-members.  For membership information\, please contact the Harlingen Area Chamber of Commerce at 956-423-5440.
X-ALT-DESC;FMTTYPE=text/html:Superintendent of the Harlingen Consolidated Independent School District\, Dr. Steve Flores\, will speak about Harlingen's schools\, followed by student performers.  9:30 to 11:30AM at the Harlingen Public Library.  $5 for non-members.  For membership information\, please contact the Harlingen Area Chamber of Commerce at 956-423-5440.\n\n\n\n\n
LOCATION:
UID:e.1828.2035
SEQUENCE:3
DTSTAMP:20260422T100118Z
URL:https://business.harlingen.com/events/details/center-for-creative-retirement-presents-hcisd-superintendent-dr-steve-flores-02-16-2010-2035
END:VEVENT

END:VCALENDAR
