BEGIN:VCALENDAR
VERSION:2.0
PRODID:-//ChamberMaster//Event Calendar 2.0//EN
METHOD:PUBLISH
X-PUBLISHED-TTL:P3D
REFRESH-INTERVAL:P3D
CALSCALE:GREGORIAN
BEGIN:VEVENT
DTSTART:20100119T153000Z
DTEND:20100119T173000Z
X-MICROSOFT-CDO-ALLDAYEVENT:FALSE
SUMMARY:Center for Creative Retirement Presents Tasty Menus for One or Two
DESCRIPTION:Alma Galvan will offer recipes and suggestions for cooking small meals for one or two persons. Enjoy demonstrations and maybe even some samples!  9:30 to 11:30 AM at the Loaves and Fishes\, 514 South ''E'' St. $5 for non-members.  For membership information\, please contact the Harlingen Area Chamber of Commerce at 956-423-5440.
X-ALT-DESC;FMTTYPE=text/html:Alma Galvan will offer recipes and suggestions for cooking small meals for one or two persons. Enjoy demonstrations and maybe even some samples!  9:30 to 11:30 AM at the Loaves and Fishes\, 514 South ''E'' St. $5 for non-members.  For membership information\, please contact the Harlingen Area Chamber of Commerce at 956-423-5440.\n\n\n\n
LOCATION:
UID:e.1828.2034
SEQUENCE:3
DTSTAMP:20260422T113106Z
URL:https://business.harlingen.com/events/details/center-for-creative-retirement-presents-tasty-menus-for-one-or-two-01-19-2010-2034
END:VEVENT

END:VCALENDAR
