BEGIN:VCALENDAR
VERSION:2.0
PRODID:-//ChamberMaster//Event Calendar 2.0//EN
METHOD:PUBLISH
X-PUBLISHED-TTL:P3D
REFRESH-INTERVAL:P3D
CALSCALE:GREGORIAN
BEGIN:VEVENT
DTSTART;VALUE=DATE:20110315
DTEND;VALUE=DATE:20110316
TRANSP:TRANSPARENT
X-MICROSOFT-CDO-ALLDAYEVENT:TRUE
SUMMARY:Center for Creative Retirement Trip to SPI Birding and Nature Center
DESCRIPTION:The nature center offers an extensive boardwalk\, seven bird blinds\, and a five story tower with spectacular views of the Laguna Madre\, beaches and dunes. Bring your camera!  Bus leaves from the Sears Automotive Center parking lot at 8:30 am.  $11 fee for non-members.  For more information\, please contact Maggie Ortiz at the Harlingen Area Chamber of Commerce at (956) 423-5440
X-ALT-DESC;FMTTYPE=text/html:The nature center offers an extensive boardwalk\, seven bird blinds\, and a five story tower with spectacular views of the Laguna Madre\, beaches and dunes. Bring your camera!  Bus leaves from the Sears Automotive Center parking lot at 8:30 am.  $11 fee for non-members.  For more information\, please contact Maggie Ortiz at the Harlingen Area Chamber of Commerce at (956) 423-5440\n
LOCATION:Bus leaves from the Sears Automotive Center parking lot.
UID:e.1828.2701
SEQUENCE:3
DTSTAMP:20260421T125041Z
URL:https://business.harlingen.com/events/details/center-for-creative-retirement-trip-to-spi-birding-and-nature-center-03-15-2011-2701
END:VEVENT

END:VCALENDAR
