BEGIN:VCALENDAR
VERSION:2.0
PRODID:-//ChamberMaster//Event Calendar 2.0//EN
METHOD:PUBLISH
X-PUBLISHED-TTL:P3D
REFRESH-INTERVAL:P3D
CALSCALE:GREGORIAN
BEGIN:VEVENT
DTSTART:20100316T133000Z
DTEND:20100316T170000Z
X-MICROSOFT-CDO-ALLDAYEVENT:FALSE
SUMMARY:Center for Creative Retirement Trip to the Museum of South Texas History in Edinburg
DESCRIPTION:Join us as we explore the architecture\, relics and exhibits of our Valley culture. From complete buildings (including a jail) to mastodons!  A must see experience.  Bus leaves from the Sears Automotive Center parking lot at Valle Vista Mall promptly at 8:30 AM.   $11 for non-members.  For membership information\, please contact the Harlingen Area Chamber of Commerce at 956-423-5440.  BUS SEATING IS LIMITED!
X-ALT-DESC;FMTTYPE=text/html:Join us as we explore the architecture\, relics and exhibits of our Valley culture. From complete buildings (including a jail) to mastodons!  A must see experience.  Bus leaves from the Sears Automotive Center parking lot at Valle Vista Mall promptly at 8:30 AM.   $11 for non-members.  For membership information\, please contact the Harlingen Area Chamber of Commerce at 956-423-5440.  BUS SEATING IS LIMITED!  \n\n\n\n\n
LOCATION:
UID:e.1828.2036
SEQUENCE:3
DTSTAMP:20260422T081416Z
URL:https://business.harlingen.com/events/details/center-for-creative-retirement-trip-to-the-museum-of-south-texas-history-in-edinburg-03-16-2010-2036
END:VEVENT

END:VCALENDAR
