BEGIN:VCALENDAR
VERSION:2.0
PRODID:-//ChamberMaster//Event Calendar 2.0//EN
METHOD:PUBLISH
X-PUBLISHED-TTL:P3D
REFRESH-INTERVAL:P3D
CALSCALE:GREGORIAN
BEGIN:VEVENT
DTSTART:20110517T133000Z
DTEND:20110517T133000Z
X-MICROSOFT-CDO-ALLDAYEVENT:FALSE
SUMMARY:Center for Creative Retirement Trip to the UTPA Planetarium
DESCRIPTION:Enter a world of wonder and excitement when you journey through our universe\, galaxy and solar system in a full dome video at the UTPA planetarium.  Bus leaves from the Sears Automotive Center parking lot at 8:30 am.  $11 fee for non-members.   For more information\, please contact Maggie Ortiz at the Harlingen Area Chamber of Commerce at (956) 423-5440.
X-ALT-DESC;FMTTYPE=text/html:Enter a world of wonder and excitement when you journey through our universe\, galaxy and solar system in a full dome video at the UTPA planetarium.  Bus leaves from the Sears Automotive Center parking lot at 8:30 am.  $11 fee for non-members.   For more information\, please contact Maggie Ortiz at the Harlingen Area Chamber of Commerce at (956) 423-5440.\n
LOCATION:Bus leaves from the Sears Automotive Center parking lot at Valle Vista Mall
UID:e.1828.2708
SEQUENCE:3
DTSTAMP:20260421T112443Z
URL:https://business.harlingen.com/events/details/center-for-creative-retirement-trip-to-the-utpa-planetarium-05-17-2011-2708
END:VEVENT

END:VCALENDAR
