BEGIN:VCALENDAR
VERSION:2.0
PRODID:-//ChamberMaster//Event Calendar 2.0//EN
METHOD:PUBLISH
X-PUBLISHED-TTL:P3D
REFRESH-INTERVAL:P3D
CALSCALE:GREGORIAN
BEGIN:VEVENT
DTSTART:20091117T143000Z
DTEND:20091117T180000Z
X-MICROSOFT-CDO-ALLDAYEVENT:FALSE
SUMMARY:Center for Creative Retirement Trip to Valley Nature Center
DESCRIPTION:Please join us for a trip to Valley Nature Center. Bring your camera! Check out birds\, butterflies\, flowers and other wildlife on the banks of the Rio Grande.  Walk the paths or ride the new tram.  A beautiful setting and experience.  Bus leaves from the Sears Automotive Center parking lot promptly at 8:30 AM.  $11 for non-members.  For membership information\, please contact the Harlingen Area Chamber of Commerce at 956-423-5440.  BUS SEATING IS LIMITED!
X-ALT-DESC;FMTTYPE=text/html:Please join us for a trip to Valley Nature Center. Bring your camera! Check out birds\, butterflies\, flowers and other wildlife on the banks of the Rio Grande.  Walk the paths or ride the new tram.  A beautiful setting and experience.  Bus leaves from the Sears Automotive Center parking lot promptly at 8:30 AM.  $11 for non-members.  For membership information\, please contact the Harlingen Area Chamber of Commerce at 956-423-5440.  BUS SEATING IS LIMITED!\n\n\n\n
LOCATION:
UID:e.1828.2033
SEQUENCE:3
DTSTAMP:20260422T130359Z
URL:https://business.harlingen.com/events/details/center-for-creative-retirement-trip-to-valley-nature-center-11-17-2009-2033
END:VEVENT

END:VCALENDAR
