BEGIN:VCALENDAR
VERSION:2.0
PRODID:-//ChamberMaster//Event Calendar 2.0//EN
METHOD:PUBLISH
X-PUBLISHED-TTL:P3D
REFRESH-INTERVAL:P3D
CALSCALE:GREGORIAN
BEGIN:VEVENT
DTSTART:20210506T223000Z
DTEND:20210506T233000Z
X-MICROSOFT-CDO-ALLDAYEVENT:FALSE
SUMMARY:Century 21 Special Announcement
DESCRIPTION:century 21 Johnston Co. invites the Harlingen community for a Special Announcement Mixer!
X-ALT-DESC;FMTTYPE=text/html:century 21 Johnston Co. invites the Harlingen community for a Special Announcement Mixer!
LOCATION:Harlingen Chamber of Commerce: 311 E Tyler Ave.\, Harlingen\, TX
UID:e.1828.16438
SEQUENCE:3
DTSTAMP:20260419T175412Z
URL:https://business.harlingen.com/events/details/century-21-special-announcement-16438
END:VEVENT

END:VCALENDAR
