BEGIN:VCALENDAR
VERSION:2.0
PRODID:-//ChamberMaster//Event Calendar 2.0//EN
METHOD:PUBLISH
X-PUBLISHED-TTL:P3D
REFRESH-INTERVAL:P3D
CALSCALE:GREGORIAN
BEGIN:VEVENT
DTSTART:20100624T130000Z
DTEND:20100624T190000Z
X-MICROSOFT-CDO-ALLDAYEVENT:FALSE
SUMMARY:Chamber offering Community Shred Day on June 24th. Bring your documents and have them shredded onsite for FREE!
DESCRIPTION:Clean out your files and bring them to the Chamber \n                            \n                            \n                        \n                        \n                            on June 24th for a Free Community Shred Day! \n                            \n                            \n                        \n                        \n                             \n                            \n                        \n                        \n                            "Dumpster diving\," or rifling through trash cans for personal information is a tactic used by identity thieves. You are taking a terrible risk if you don't shred sensitive material. Bring these papers to the Chamber on June\n                            24th from 8 am to 2 pm for free shredding\, courtesy of Lone Star Shredding & Document Storage. Their truck will be parked in front of the Chamber to shred the documents onsite. Take advantage of this free service!
X-ALT-DESC;FMTTYPE=text/html:<html xmlns:o= "urn:schemas-microsoft-com:office:office">\n<head>\n    <link href="http://harlingentxcoc.weblinkconnect.com/CWT/External/WCControls/WCControls.css" type="text/css" rel="Stylesheet" />\n</head>\n<body class="GeneralBody">\n    <div style="mso-element: frame\; mso-element-frame-hspace: 9.0pt\; mso-element-wrap: around\; mso-element-anchor-vertical: paragraph\; mso-element-anchor-horizontal: column\; mso-element-top: .05pt\; mso-height-rule: exactly">\n        <table cellspacing="0" cellpadding="0" align="left" hspace="0" vspace="0">\n            <tbody>\n                <tr>\n                    <td style="BORDER-RIGHT: #ece9d8\; PADDING-RIGHT: 9pt\; BORDER-TOP: #ece9d8\; PADDING-LEFT: 9pt\; PADDING-BOTTOM: 0in\; BORDER-LEFT: #ece9d8\; PADDING-TOP: 0in\; BORDER-BOTTOM: #ece9d8\; BACKGROUND-COLOR: transparent" valign="top" align="left">\n                        <p class="MsoNormal" style="MARGIN: 0in 0in 0pt\; mso-element: frame\; mso-element-frame-hspace: 9.0pt\; mso-element-wrap: around\; mso-element-anchor-vertical: paragraph\; mso-element-anchor-horizontal: column\; mso-element-top: .05pt\; mso-height-rule: exactly">\n                            <span style="FONT-SIZE: 18pt\; COLOR: #990000\; FONT-FAMILY: 'Arial Narrow'\,'sans-serif'">Clean out your files and bring them to the Chamber \n                            <o:p></o:p>\n                            </span>\n                        </p>\n                        <p class="MsoNormal" style="MARGIN: 0in 0in 0pt\; mso-element: frame\; mso-element-frame-hspace: 9.0pt\; mso-element-wrap: around\; mso-element-anchor-vertical: paragraph\; mso-element-anchor-horizontal: column\; mso-element-top: .05pt\; mso-height-rule: exactly">\n                            <span style="FONT-SIZE: 18pt\; COLOR: #990000\; FONT-FAMILY: 'Arial Narrow'\,'sans-serif'">on June 24th for a Free Community Shred Day! \n                            <o:p></o:p>\n                            </span>\n                        </p>\n                        <p class="MsoNormal" style="MARGIN: 0in 0in 0pt\; mso-element: frame\; mso-element-frame-hspace: 9.0pt\; mso-element-wrap: around\; mso-element-anchor-vertical: paragraph\; mso-element-anchor-horizontal: column\; mso-element-top: .05pt\; mso-height-rule: exactly">\n                            <span style="FONT-SIZE: 10pt\; COLOR: #857458\; FONT-FAMILY: 'Arial'\,'sans-serif'">&nbsp\;<o:p></o:p>\n                            </span>\n                        </p>\n                        <p class="MsoNormal" style="MARGIN: 0in 0in 0pt\; mso-element: frame\; mso-element-frame-hspace: 9.0pt\; mso-element-wrap: around\; mso-element-anchor-vertical: paragraph\; mso-element-anchor-horizontal: column\; mso-element-top: .05pt\; mso-height-rule: exactly">\n                            <span style="FONT-SIZE: 10pt\; COLOR: #857458\; FONT-FAMILY: 'Arial'\,'sans-serif'">"Dumpster diving\," or rifling through trash cans for personal information is a tactic used by identity thieves. You are taking a terrible risk if you don't shred sensitive material. Bring these papers to the </span><strong><u><span style="FONT-SIZE: 10pt\; COLOR: #990000\; FONT-FAMILY: 'Arial'\,'sans-serif'">Chamber on</span></u></strong><u><span style="FONT-SIZE: 10pt\; COLOR: #990000\; FONT-FAMILY: 'Arial'\,'sans-serif'"> <strong><span style="FONT-FAMILY: 'Arial'\,'sans-serif'">June\n                            24th from 8 am to 2 pm</span></strong></span></u><span style="FONT-SIZE: 10pt\; COLOR: #857458\; FONT-FAMILY: 'Arial'\,'sans-serif'"> for free shredding\, courtesy of Lone Star Shredding &amp\; Document Storage. Their truck will be parked in front of the Chamber to shred the documents <u>onsite</u>. Take advantage of this free service! </span><span style="FONT-SIZE: 18pt\; COLOR: #990000\; FONT-FAMILY: 'Arial Narrow'\,'sans-serif'">\n                            <o:p></o:p>\n                            </span>\n                        </p>\n                    </td>\n                </tr>\n            </tbody>\n        </table>\n    </div>\n</body>\n</html>\n
LOCATION:
UID:e.1828.2581
SEQUENCE:3
DTSTAMP:20260422T032255Z
URL:https://business.harlingen.com/events/details/chamber-offering-community-shred-day-on-june-24th-bring-your-documents-and-have-them-shredded-onsite-for-free-06-24-2010-2581
END:VEVENT

END:VCALENDAR
