BEGIN:VCALENDAR
VERSION:2.0
PRODID:-//ChamberMaster//Event Calendar 2.0//EN
METHOD:PUBLISH
X-PUBLISHED-TTL:P3D
REFRESH-INTERVAL:P3D
CALSCALE:GREGORIAN
BEGIN:VEVENT
DTSTART:20111215T233000Z
DTEND:20111216T010000Z
X-MICROSOFT-CDO-ALLDAYEVENT:FALSE
SUMMARY:Chamber's Annual Holiday Open House
DESCRIPTION:Come enjoy some holiday treats and listen to holiday music while mingling amongst friends\, colleagues\, and fellow chamber members.
X-ALT-DESC;FMTTYPE=text/html:Come enjoy some holiday treats and listen to holiday music while mingling amongst friends\, colleagues\, and fellow chamber members.  \n
LOCATION:
UID:e.1828.3286
SEQUENCE:3
DTSTAMP:20260420T230443Z
URL:https://business.harlingen.com/events/details/chamber-s-annual-holiday-open-house-12-15-2011-3286
END:VEVENT

END:VCALENDAR
