BEGIN:VCALENDAR
VERSION:2.0
PRODID:-//ChamberMaster//Event Calendar 2.0//EN
METHOD:PUBLISH
X-PUBLISHED-TTL:P3D
REFRESH-INTERVAL:P3D
CALSCALE:GREGORIAN
BEGIN:VEVENT
DTSTART:20120727T150000Z
DTEND:20120727T190000Z
X-MICROSOFT-CDO-ALLDAYEVENT:FALSE
SUMMARY:Chamber Shred Day
DESCRIPTION:Chamber Shred Day Sponsored by Valley Shredding Service. The Chamber would like to invite its members to participate in the "Chamber Shred Day".  This is a FREE event. Limit is five document boxes (regular or legal size box) per Chamber Member Business. For more information\, please contact the Chamber at (956) 423-5440.
X-ALT-DESC;FMTTYPE=text/html:Chamber Shred Day Sponsored by Valley Shredding Service. The Chamber would like to invite its members to participate in the "Chamber Shred Day".  This is a FREE event. Limit is five document boxes (regular or legal size box) per Chamber Member Business. For more information\, please contact the Chamber at (956) 423-5440.  \n
LOCATION:
UID:e.1828.3882
SEQUENCE:3
DTSTAMP:20260420T114227Z
URL:https://business.harlingen.com/events/details/chamber-shred-day-07-27-2012-3882
END:VEVENT

END:VCALENDAR
