BEGIN:VCALENDAR
VERSION:2.0
PRODID:-//ChamberMaster//Event Calendar 2.0//EN
METHOD:PUBLISH
X-PUBLISHED-TTL:P3D
REFRESH-INTERVAL:P3D
CALSCALE:GREGORIAN
BEGIN:VEVENT
DTSTART:20121022T230000Z
DTEND:20121022T230000Z
X-MICROSOFT-CDO-ALLDAYEVENT:FALSE
SUMMARY:CHAMBER TO HOST CANDIDATES FORUM
DESCRIPTION:The Harlingen Area Chamber of Commerce will be hosting a Candidates Forum on Monday\, October 22\, 2012 in the boardroom of the HCISD Administration building\, 407 North Sunshine Strip for all candidates vying for a position on the Harlingen City Commission. The event will begin at 6:00 p.m. \n \nThe purpose of the forum is to give candidates an opportunity to present their views on business-related issues affecting our community. All seven commission candidates have been invited to participate. The ground rules and questions will be developed by a committee of the Chamber. \n \nThe Chamber believes in a well-informed and politically engaged community. This is an excellent opportunity for the voters of Harlingen to learn more about the candidates' views related to business and the economy in our local area.\n \nThe Harlingen Chamber's mission statement is "To promote\, advocate and support all businesses in our community through member services." \n \nTheir vision statement is "The Chamber will be the advocate for all businesses\, promoting economic prosperity and growth for the community." \n \nFor more information\, please contact: Pam Priour\, President / CEO\, Harlingen Area Chamber of Commerce\,    at 956-423-5440.
X-ALT-DESC;FMTTYPE=text/html:The Harlingen Area Chamber of Commerce will be hosting a Candidates Forum on Monday\, October 22\, 2012 in the boardroom of the HCISD Administration building\, 407 North Sunshine Strip for all candidates vying for a position on the Harlingen City Commission. The event will begin at 6:00 p.m. \n \nThe purpose of the forum is to give candidates an opportunity to present their views on business-related issues affecting our community. All seven commission candidates have been invited to participate. The ground rules and questions will be developed by a committee of the Chamber. \n \nThe Chamber believes in a well-informed and politically engaged community. This is an excellent opportunity for the voters of Harlingen to learn more about the candidates' views related to business and the economy in our local area.\n \nThe Harlingen Chamber's mission statement is "To promote\, advocate and support all businesses in our community through member services." \n \nTheir vision statement is "The Chamber will be the advocate for all businesses\, promoting economic prosperity and growth for the community." \n \nFor more information\, please contact: Pam Priour\, President / CEO\, Harlingen Area Chamber of Commerce\,    at 956-423-5440.                                                \n\n\n \n \n \n
LOCATION:
UID:e.1828.3992
SEQUENCE:3
DTSTAMP:20260420T095851Z
URL:https://business.harlingen.com/events/details/chamber-to-host-candidates-forum-10-22-2012-3992
END:VEVENT

END:VCALENDAR
