BEGIN:VCALENDAR
VERSION:2.0
PRODID:-//ChamberMaster//Event Calendar 2.0//EN
METHOD:PUBLISH
X-PUBLISHED-TTL:P3D
REFRESH-INTERVAL:P3D
CALSCALE:GREGORIAN
BEGIN:VEVENT
DTSTART:20091220T200000Z
DTEND:20091220T200000Z
X-MICROSOFT-CDO-ALLDAYEVENT:FALSE
SUMMARY:Charro Days in Brownsville
DESCRIPTION:The Brownsville Historical Association invites the community to come meet and greet UTB/TSC history professors Anthony Knopp and Manuel Medrano\, and BHA executive director Priscilla Rodriguez\, as they discuss and present their new book\, Charro Days in Brownsville. This event is free to the public. There will be a reception after the presentation.
X-ALT-DESC;FMTTYPE=text/html:The Brownsville Historical Association invites the community to come meet and greet UTB/TSC history professors Anthony Knopp and Manuel Medrano\, and BHA executive director Priscilla Rodriguez\, as they discuss and present their new book\, Charro Days in Brownsville. This event is free to the public. There will be a reception after the presentation.
LOCATION:Brownsville Heritage Complex
UID:e.1828.2243
SEQUENCE:3
DTSTAMP:20260422T130028Z
URL:https://business.harlingen.com/events/details/charro-days-in-brownsville-12-20-2009-2243
END:VEVENT

END:VCALENDAR
