BEGIN:VCALENDAR
VERSION:2.0
PRODID:-//ChamberMaster//Event Calendar 2.0//EN
METHOD:PUBLISH
X-PUBLISHED-TTL:P3D
REFRESH-INTERVAL:P3D
CALSCALE:GREGORIAN
BEGIN:VEVENT
DTSTART:20100923T140000Z
DTEND:20100923T140000Z
X-MICROSOFT-CDO-ALLDAYEVENT:FALSE
SUMMARY:Chick-Fil-A Grand Opening & Ribbon Cutting
DESCRIPTION:Join us for the grand opening and ribbon cutting of the newest location for Chick-Fil-A on Thursday\, September 23rd at 9:00 am on the corner of Dixieland and Lincoln.
X-ALT-DESC;FMTTYPE=text/html:Join us for the grand opening and ribbon cutting of the newest location for Chick-Fil-A on Thursday\, September 23rd at 9:00 am on the corner of Dixieland and Lincoln.
LOCATION:
UID:e.1828.2755
SEQUENCE:3
DTSTAMP:20260422T001828Z
URL:https://business.harlingen.com/events/details/chick-fil-a-grand-opening-ribbon-cutting-09-23-2010-2755
END:VEVENT

END:VCALENDAR
