BEGIN:VCALENDAR
VERSION:2.0
PRODID:-//ChamberMaster//Event Calendar 2.0//EN
METHOD:PUBLISH
X-PUBLISHED-TTL:P3D
REFRESH-INTERVAL:P3D
CALSCALE:GREGORIAN
BEGIN:VEVENT
DTSTART:20100507T120000Z
DTEND:20100507T200000Z
X-MICROSOFT-CDO-ALLDAYEVENT:FALSE
SUMMARY:Chick-fil-A Leadercast
DESCRIPTION:Ten Internationally-Acclaimed Leaders Speak At UTPA\n\nCommunity business leaders can access the knowledge and experience of ten internationally-acclaimed leaders by attending the Chick-fil-A Leadercast at The University of Texas-Pan American College of Business Administration in Edinburg on May 7\, 2010.  \n\nThe Chick-fil-A Leadercast is a one-day leadership training event broadcast LIVE from Atlanta\, Ga. to hundreds of host sites throughout the nation\, including Edinburg.  Speakers for the event include:\n\n•	Jim Collins\, author of ''Good to Great\,'' ''How the Mighty Fall'' and co-author of ''Built to Last''\n•	Tony Dungy (pre-recorded session)\, retired head coach for the Indianapolis Colts\n•	John C. Maxwell\, leadership expert and best-selling author of ''The 21 Irrefutable Laws of Leadership''\n•	Ben Carson\, neurosurgeon and professor of Pediatric Neurosurgery at the Johns Hopkins School of Medicine\n•	Chip Heath\, Author of ''Made to Stick\,'' Columnist for ''Fast Company\,'' and Stanford Professor\n•	Jim Goodnight\, CEO of SAS Institute\, Inc.\n•	Ed Bastian\, president of Delta Air Lines\n•	Connie Podesta\, expert in the psychology of human behavior and leadership development\n•	Mark Sanborn\, best-selling author of The Fred Factor\n•	Steve Uzzell\, award-winning corporate photographer and former staff member of National Geographic\n\nThe idea for the Chick-fil-A Leadercast was conceived ten years ago by Dr. John C. Maxwell\, ''New York Times'' best-selling author and speaker.  He wanted to combine his influential voice in the community with his desire to reach leaders at the heart level.\n\nWhat started out as a half day\, classroom-format event with John Maxwell teaching has since become a full day\, experiential conference featuring 10 authors\, leadership experts and practitioners.\n\n"This event is an incredible way to improve upon one's leadership skills and further propel us to make a difference in the lives of those we influence\,'' shares Maria Juarez Serna\, direct
X-ALT-DESC;FMTTYPE=text/html:Ten Internationally-Acclaimed Leaders Speak At UTPA\n\nCommunity business leaders can access the knowledge and experience of ten internationally-acclaimed leaders by attending the Chick-fil-A Leadercast at The University of Texas-Pan American College of Business Administration in Edinburg on May 7\, 2010.  \n\nThe Chick-fil-A Leadercast is a one-day leadership training event broadcast LIVE from Atlanta\, Ga. to hundreds of host sites throughout the nation\, including Edinburg.  Speakers for the event include:\n\n•	Jim Collins\, author of ''Good to Great\,'' ''How the Mighty Fall'' and co-author of ''Built to Last''\n•	Tony Dungy (pre-recorded session)\, retired head coach for the Indianapolis Colts\n•	John C. Maxwell\, leadership expert and best-selling author of ''The 21 Irrefutable Laws of Leadership''\n•	Ben Carson\, neurosurgeon and professor of Pediatric Neurosurgery at the Johns Hopkins School of Medicine\n•	Chip Heath\, Author of ''Made to Stick\,'' Columnist for ''Fast Company\,'' and Stanford Professor\n•	Jim Goodnight\, CEO of SAS Institute\, Inc.\n•	Ed Bastian\, president of Delta Air Lines\n•	Connie Podesta\, expert in the psychology of human behavior and leadership development\n•	Mark Sanborn\, best-selling author of The Fred Factor\n•	Steve Uzzell\, award-winning corporate photographer and former staff member of National Geographic\n\nThe idea for the Chick-fil-A Leadercast was conceived ten years ago by Dr. John C. Maxwell\, ''New York Times'' best-selling author and speaker.  He wanted to combine his influential voice in the community with his desire to reach leaders at the heart level.\n\nWhat started out as a half day\, classroom-format event with John Maxwell teaching has since become a full day\, experiential conference featuring 10 authors\, leadership experts and practitioners.\n\n"This event is an incredible way to improve upon one's leadership skills and further propel us to make a difference in the lives of those we influence\,'' shares Maria Juarez Serna\, direct
LOCATION:The University of Texas-Pan American College of Business Administration Room 110
UID:e.1828.2506
SEQUENCE:3
DTSTAMP:20260422T061520Z
URL:https://business.harlingen.com/events/details/chick-fil-a-leadercast-05-07-2010-2506
END:VEVENT

END:VCALENDAR
