BEGIN:VCALENDAR
VERSION:2.0
PRODID:-//ChamberMaster//Event Calendar 2.0//EN
METHOD:PUBLISH
X-PUBLISHED-TTL:P3D
REFRESH-INTERVAL:P3D
CALSCALE:GREGORIAN
BEGIN:VEVENT
DTSTART;VALUE=DATE:20101111
DTEND;VALUE=DATE:20101114
TRANSP:TRANSPARENT
X-MICROSOFT-CDO-ALLDAYEVENT:TRUE
SUMMARY:Child Abuse Conference
DESCRIPTION:SOUTH  PADRE  ISLAND – Child abuse prevention\, intervention and investigation in the Valley will be addressed during the Rio Grande Valley Seminar in Forensic Sciences\, which will be held Nov. 11-13 at the Isla Grand Beach Resort on South Padre Island.  The conference\,  which is hosted by Valley Baptist Health System\, will provide current information to those involved in child death investigations\, including police\, Child Protective Services workers\, attorneys\, nurses\, EMS personnel\, and social workers\; as well as information on recognizing child abuse for child care workers and teachers.  For more information\, call (956) 389-1614 or visit www.ValleyBaptist.net.
X-ALT-DESC;FMTTYPE=text/html:SOUTH  PADRE  ISLAND – Child abuse prevention\, intervention and investigation in the Valley will be addressed during the Rio Grande Valley Seminar in Forensic Sciences\, which will be held Nov. 11-13 at the Isla Grand Beach Resort on South Padre Island.  The conference\,  which is hosted by Valley Baptist Health System\, will provide current information to those involved in child death investigations\, including police\, Child Protective Services workers\, attorneys\, nurses\, EMS personnel\, and social workers\; as well as information on recognizing child abuse for child care workers and teachers.  For more information\, call (956) 389-1614 or visit www.ValleyBaptist.net. \n
LOCATION:
UID:e.1828.2796
SEQUENCE:3
DTSTAMP:20260421T203331Z
URL:https://business.harlingen.com/events/details/child-abuse-conference-11-11-2010-2796
END:VEVENT

END:VCALENDAR
