BEGIN:VCALENDAR
VERSION:2.0
PRODID:-//ChamberMaster//Event Calendar 2.0//EN
METHOD:PUBLISH
X-PUBLISHED-TTL:P3D
REFRESH-INTERVAL:P3D
CALSCALE:GREGORIAN
BEGIN:VEVENT
DTSTART:20100821T210000Z
DTEND:20100830T000000Z
X-MICROSOFT-CDO-ALLDAYEVENT:FALSE
SUMMARY:Childbirth Education Class Series
DESCRIPTION:CHILDBIRTH EDUCATION & PARENTING CLASSES\n\nTwo Weekend Series\nAug. 21\,22\,28\,29\n4pm-7pm\nYou're encouraged to attend each date & time - 4 classes total!\n\nLone Star Restaurant Harlingen\, TX\n\nThis class series is available to all expectant parents. The classes provide you with information & techniques that will promote a healthy pregnancy\, a fulfilling birth experience\, & confident parenting of the newborn. Sign up at any stage in pregnancy. This series is the last of the year\, has limited enrollment & will fill up fast! Sign up ASAP! Pre-registration required!\n\nClass Content\nA series of four 3 hour classes to help you have an understanding of the normal birthing process\, medical interventions associated with birth\, comfort measures & techniques\, as well as feeding basics\, postpartum care\, newborn care & infant safety. This group class provides an opportunity to meet other expectant families & make connections that can lead to wonderful friendships as you\nexperience early parenthood together.\n\nClass 1 - What to expect in the last trimester. Stages of Labor. Comfort Measures\, breathing techniques & positions for the stages of labor. How to decrease fear & anxiety. Trusting birth.\n\nClass 2 – Birth Options. Hospital Routines. Medical Interventions. Pain Relief\, Medicated & Non- Medicated. ‘Normal' birth & Complications. The importance of a support person for laboring woman.\n\nClass 3 – Postpartum Care. Newborn Care & Infant Safety. Feeding baby including breastfeeding. What to Expect in the first weeks with baby. Daddy\, grandparent & sibling preparation. Tea Time!\n\nClass 4 - Working with Your Doctor or Midwife: Advocacy Issues & Writing Your Birth Plan. Labor\, birth & baby ''must haves!''. Class review with games\, art\, & birth movies. Q & A session. Ice cream!\n\nTeaching Tools\nGames\, videos\, hands-on demonstrations\, lecture & discussion are geared towards making everyone comfortable & allowing for questions. Please wear comfortable clothing & bring two
X-ALT-DESC;FMTTYPE=text/html:CHILDBIRTH EDUCATION & PARENTING CLASSES\n\nTwo Weekend Series\nAug. 21\,22\,28\,29\n4pm-7pm\nYou're encouraged to attend each date & time - 4 classes total!\n\nLone Star Restaurant Harlingen\, TX\n\nThis class series is available to all expectant parents. The classes provide you with information & techniques that will promote a healthy pregnancy\, a fulfilling birth experience\, & confident parenting of the newborn. Sign up at any stage in pregnancy. This series is the last of the year\, has limited enrollment & will fill up fast! Sign up ASAP! Pre-registration required!\n\nClass Content\nA series of four 3 hour classes to help you have an understanding of the normal birthing process\, medical interventions associated with birth\, comfort measures & techniques\, as well as feeding basics\, postpartum care\, newborn care & infant safety. This group class provides an opportunity to meet other expectant families & make connections that can lead to wonderful friendships as you\nexperience early parenthood together.\n\nClass 1 - What to expect in the last trimester. Stages of Labor. Comfort Measures\, breathing techniques & positions for the stages of labor. How to decrease fear & anxiety. Trusting birth.\n\nClass 2 – Birth Options. Hospital Routines. Medical Interventions. Pain Relief\, Medicated & Non- Medicated. ‘Normal' birth & Complications. The importance of a support person for laboring woman.\n\nClass 3 – Postpartum Care. Newborn Care & Infant Safety. Feeding baby including breastfeeding. What to Expect in the first weeks with baby. Daddy\, grandparent & sibling preparation. Tea Time!\n\nClass 4 - Working with Your Doctor or Midwife: Advocacy Issues & Writing Your Birth Plan. Labor\, birth & baby ''must haves!''. Class review with games\, art\, & birth movies. Q & A session. Ice cream!\n\nTeaching Tools\nGames\, videos\, hands-on demonstrations\, lecture & discussion are geared towards making everyone comfortable & allowing for questions. Please wear comfortable clothing & bring two
LOCATION:The Lone Star Restaurant in Harlingen\, TX 4201 W. Business 83 Restaurant Ph# 956-423-8002
UID:e.1828.2602
SEQUENCE:3
DTSTAMP:20260422T001429Z
URL:https://business.harlingen.com/events/details/childbirth-education-class-series-08-21-2010-2602
END:VEVENT

END:VCALENDAR
