BEGIN:VCALENDAR
VERSION:2.0
PRODID:-//ChamberMaster//Event Calendar 2.0//EN
METHOD:PUBLISH
X-PUBLISHED-TTL:P3D
REFRESH-INTERVAL:P3D
CALSCALE:GREGORIAN
BEGIN:VEVENT
DTSTART:20090920T190000Z
DTEND:20090926T200000Z
X-MICROSOFT-CDO-ALLDAYEVENT:FALSE
SUMMARY:Children's Museum of Brownsville Dance to the Rythm of the Marimba
DESCRIPTION:Dance to the rhythm of the Marimba at the Children's Museum of Brownsville on Sunday\, September 20\, 2009 from 2:00p.m. to 3:00p.m.  Enjoy Music Sunday and learn all about an amazing instrument\, the Marimba!\nThe cheerful children's book ''Marimba! Animales from A to Z'' by Pat Mora will be read to young visitors.  This cross-cultural alphabet book tells of the adventures of a marimba-playing monkey and its friends at the zoo. The book not only gives insight into our featured musical instrument\, but also bridges two languages and two cultures by using the alphabet.\n\nSpecial guest Dr. Tom Nevill\, from the University of Texas at Brownsville\, will educate children on the sound\, history and uniqueness of the Marimba\, a wooden percussion instrument popular in Africa and South America.  \n\nFor more information on upcoming programs or activities please visit www.cmofbrownsville.com or call (956) 548-9300.  Admission is $5 for adults and children\, 12 months and under\, FREE.
X-ALT-DESC;FMTTYPE=text/html:Dance to the rhythm of the Marimba at the Children's Museum of Brownsville on Sunday\, September 20\, 2009 from 2:00p.m. to 3:00p.m.  Enjoy Music Sunday and learn all about an amazing instrument\, the Marimba!\nThe cheerful children's book ''Marimba! Animales from A to Z'' by Pat Mora will be read to young visitors.  This cross-cultural alphabet book tells of the adventures of a marimba-playing monkey and its friends at the zoo. The book not only gives insight into our featured musical instrument\, but also bridges two languages and two cultures by using the alphabet.\n\nSpecial guest Dr. Tom Nevill\, from the University of Texas at Brownsville\, will educate children on the sound\, history and uniqueness of the Marimba\, a wooden percussion instrument popular in Africa and South America.  \n\nFor more information on upcoming programs or activities please visit www.cmofbrownsville.com or call (956) 548-9300.  Admission is $5 for adults and children\, 12 months and under\, FREE.\n\n\n
LOCATION:
UID:e.1828.2074
SEQUENCE:3
DTSTAMP:20260422T112557Z
URL:https://business.harlingen.com/events/details/children-s-museum-of-brownsville-dance-to-the-rythm-of-the-marimba-09-20-2009-2074
END:VEVENT

END:VCALENDAR
