BEGIN:VCALENDAR
VERSION:2.0
PRODID:-//ChamberMaster//Event Calendar 2.0//EN
METHOD:PUBLISH
X-PUBLISHED-TTL:P3D
REFRESH-INTERVAL:P3D
CALSCALE:GREGORIAN
BEGIN:VEVENT
DTSTART;VALUE=DATE:20120314
DTEND;VALUE=DATE:20120315
TRANSP:TRANSPARENT
X-MICROSOFT-CDO-ALLDAYEVENT:TRUE
SUMMARY:Children's Museum of Brownsville hosting Spring Break Camps
DESCRIPTION:Children's Museum of Brownsville hosting Spring Break Camps from March 12-16 \nMonday\, March 12\, 2012\nages 4-7: Kids will be transformed into chefs that can stir-up creativity in Petite Chef Camp.  \n\nTuesday\, March 13\, 2012  \nfor ages 4-6: Travel through a world of color and paint in Groovy Artist Camp.  \n\nWednesday\, March 14\, 2012  \nfor ages 4-8: Children will learn about nature and take a bike ride during Hikes and Bikes Camp.  \n \nThursday\, March 15\, 2012  \nfor ages 6-8: Experiment and discover the fun in science at Mad Scientist Camp.  \n\nFriday\, March 16\, 2012\nages 6-8: End the Spring Break week off right with a party at the Children's Museum of Brownsville during Glow Party Camp.\n\nAll Spring Break Camps are scheduled from  \n9:00 a.m. to 2:00 p.m.\, Monday through Friday.  \n$40.00/members -  $50.00/non-members \nVisit www.cmofbrownsville.com or call (956) 548-9300 for a complete listing of Spring Break Camps\, dates and registration information.  Register today!  Space is limited!
X-ALT-DESC;FMTTYPE=text/html:Children's Museum of Brownsville hosting Spring Break Camps from March 12-16 \nMonday\, March 12\, 2012\nages 4-7: Kids will be transformed into chefs that can stir-up creativity in Petite Chef Camp.  \n\nTuesday\, March 13\, 2012  \nfor ages 4-6: Travel through a world of color and paint in Groovy Artist Camp.  \n\nWednesday\, March 14\, 2012  \nfor ages 4-8: Children will learn about nature and take a bike ride during Hikes and Bikes Camp.  \n \nThursday\, March 15\, 2012  \nfor ages 6-8: Experiment and discover the fun in science at Mad Scientist Camp.  \n\nFriday\, March 16\, 2012\nages 6-8: End the Spring Break week off right with a party at the Children's Museum of Brownsville during Glow Party Camp.\n\nAll Spring Break Camps are scheduled from  \n9:00 a.m. to 2:00 p.m.\, Monday through Friday.  \n$40.00/members -  $50.00/non-members \nVisit www.cmofbrownsville.com or call (956) 548-9300 for a complete listing of Spring Break Camps\, dates and registration information.  Register today!  Space is limited!\n\n
LOCATION:
UID:e.1828.3553
SEQUENCE:3
DTSTAMP:20260420T182411Z
URL:https://business.harlingen.com/events/details/children-s-museum-of-brownsville-hosting-spring-break-camps-03-14-2012-3553
END:VEVENT

END:VCALENDAR
