BEGIN:VCALENDAR
VERSION:2.0
PRODID:-//ChamberMaster//Event Calendar 2.0//EN
METHOD:PUBLISH
X-PUBLISHED-TTL:P3D
REFRESH-INTERVAL:P3D
CALSCALE:GREGORIAN
BEGIN:VEVENT
DTSTART:20090919T160000Z
DTEND:20090926T200000Z
X-MICROSOFT-CDO-ALLDAYEVENT:FALSE
SUMMARY:Children's Museum of Brownsville Teddy Bear Clinic
DESCRIPTION:Teddy Bear Clinic will be open on September 19th for all teddy bears\, stuffed animals and dolls.  Doctors from Valley Baptists Healthsystems will conduct full evaluations for any stuffed animal at the Children's Museum of Brownsville.  They will be checking patients' ears\, eyes and heart and educating children on the importance of doctor's visits.  There will be free blood sugar screenings for adults.  Parents will obtain child photo identification cards\, complete with fingerprints\, to be used in emergency situations.  Plus\, the Brownsville Fire and Police Department will be on-hand for children's safety workshops.  Bring your teddy bear and don't miss this ''beary special'' day from 11:00a.m. to 3:00p.m.! \n\nAdmission is $5 for adults and children\, 12 months and under\, FREE.  To schedule a teddy bear appointment call (956) 548-9300.  For more information visit www.cmofbrownsville.com
X-ALT-DESC;FMTTYPE=text/html:Teddy Bear Clinic will be open on September 19th for all teddy bears\, stuffed animals and dolls.  Doctors from Valley Baptists Healthsystems will conduct full evaluations for any stuffed animal at the Children's Museum of Brownsville.  They will be checking patients' ears\, eyes and heart and educating children on the importance of doctor's visits.  There will be free blood sugar screenings for adults.  Parents will obtain child photo identification cards\, complete with fingerprints\, to be used in emergency situations.  Plus\, the Brownsville Fire and Police Department will be on-hand for children's safety workshops.  Bring your teddy bear and don't miss this ''beary special'' day from 11:00a.m. to 3:00p.m.! \n\nAdmission is $5 for adults and children\, 12 months and under\, FREE.  To schedule a teddy bear appointment call (956) 548-9300.  For more information visit www.cmofbrownsville.com\n\n\n
LOCATION:
UID:e.1828.2073
SEQUENCE:3
DTSTAMP:20260422T100430Z
URL:https://business.harlingen.com/events/details/children-s-museum-of-brownsville-teddy-bear-clinic-09-19-2009-2073
END:VEVENT

END:VCALENDAR
