BEGIN:VCALENDAR
VERSION:2.0
PRODID:-//ChamberMaster//Event Calendar 2.0//EN
METHOD:PUBLISH
X-PUBLISHED-TTL:P3D
REFRESH-INTERVAL:P3D
CALSCALE:GREGORIAN
BEGIN:VEVENT
DTSTART:20091214T170000Z
DTEND:20091214T170000Z
X-MICROSOFT-CDO-ALLDAYEVENT:FALSE
SUMMARY:Chili's Monica's and Maggie's House Fund Raiser
DESCRIPTION:Chili's is teaming up with Monica's and Maggie's House\, Cameron County Children's Advocacy Center Inc. to help raise funds for the abused children in Cameron County.  \n\n\n    Come join us for an all day event or order from our to-go specialist on December14\, 2009\, and Chili's will donate 10% of your check to Monica's and Maggie's House.  \n\n\n    DON'T FORGET TO BRING THIS FLYER WITH YOU!\n\n\n    Chili's of Brownsville\, Texas \n    \n\n    2750 North Expressway (956)574-9955\n\n\n    Chili's of Harlingen\, Texas \n    \n\n    1725 West Tyler (956)364-2405\n\n\n    When:  December 14\, 2009\n\n    11:00 am to close
X-ALT-DESC;FMTTYPE=text/html:<p>\n    Chili&rsquo\;s is teaming up with Monica&rsquo\;s and Maggie&rsquo\;s House\, Cameron County Children&rsquo\;s Advocacy Center Inc. to help raise funds for the abused children in Cameron County.&nbsp\; \n</p>\n<p>\n    Come join us for an all day event or order from our to-go specialist on December14\, 2009\, and Chili&rsquo\;s will donate 10% of your check to Monica&rsquo\;s and Maggie&rsquo\;s House.&nbsp\; \n</p>\n<p>\n    DON&rsquo\;T FORGET TO BRING THIS FLYER WITH YOU!\n</p>\n<p>\n    Chili&rsquo\;s of Brownsville\, Texas \n    <br />\n    2750 North Expressway (956)574-9955\n</p>\n<p>\n    Chili&rsquo\;s of Harlingen\, Texas \n    <br />\n    1725 West Tyler (956)364-2405\n</p>\n<p>\n    When:&nbsp\; December 14\, 2009<br />\n    11:00 am to close\n</p>\n<p>\n    &nbsp\;\n</p>\n<p>\n    <br />\n    &nbsp\;\n</p>
LOCATION:
UID:e.1828.2278
SEQUENCE:3
DTSTAMP:20260422T130512Z
URL:https://business.harlingen.com/events/details/chili-s-monica-s-and-maggie-s-house-fund-raiser-12-14-2009-2278
END:VEVENT

END:VCALENDAR
