BEGIN:VCALENDAR
VERSION:2.0
PRODID:-//ChamberMaster//Event Calendar 2.0//EN
METHOD:PUBLISH
X-PUBLISHED-TTL:P3D
REFRESH-INTERVAL:P3D
CALSCALE:GREGORIAN
BEGIN:VEVENT
DTSTART:20120224T000000Z
DTEND:20120224T020000Z
X-MICROSOFT-CDO-ALLDAYEVENT:FALSE
SUMMARY:Chocolate Lovers Evening
DESCRIPTION:Chocolate doesn't make the world go around... but it certainly makes the ride worthwhile! Come in and enjoy an evening of shopping while sampling a variety of chocolate infused desserts. Sip on a Hot cup of coffee or tea and enjoy all that Heartfelt has to offer. All Desserts are free while you shop! For more information call 956-361-1900  (or)  paulahenkin@hotmail.com
X-ALT-DESC;FMTTYPE=text/html:Chocolate doesn't make the world go around... but it certainly makes the ride worthwhile! Come in and enjoy an evening of shopping while sampling a variety of chocolate infused desserts. Sip on a Hot cup of coffee or tea and enjoy all that Heartfelt has to offer. All Desserts are free while you shop! For more information call 956-361-1900  (or)  paulahenkin@hotmail.com
LOCATION:
UID:e.1828.3434
SEQUENCE:3
DTSTAMP:20260420T195340Z
URL:https://business.harlingen.com/events/details/chocolate-lovers-evening-02-23-2012-3434
END:VEVENT

END:VCALENDAR
