BEGIN:VCALENDAR
VERSION:2.0
PRODID:-//ChamberMaster//Event Calendar 2.0//EN
METHOD:PUBLISH
X-PUBLISHED-TTL:P3D
REFRESH-INTERVAL:P3D
CALSCALE:GREGORIAN
BEGIN:VEVENT
DTSTART:20111207T000000Z
DTEND:20111207T000000Z
X-MICROSOFT-CDO-ALLDAYEVENT:FALSE
SUMMARY:Christmas at the Museum
DESCRIPTION:Toys & Trees Wonderland Harlingen Arts & Heritage Museum Brings Tidings of Christmas Cheer in our first: Christmas at the Museum. This year we have a special Christmas treat! Toys and Trees have taken over... Remember your toys from yesteryear? WE sure do\, and we are ready to share them with you. On December 6\, 2011 get ready to take a trip back to the days of your youth and remember the ghosts of Christmas past. We have magical trees throughout the buildings and toys all ready and waiting for you. Don't be a Scrooge! Be here at 6:00pm\, to enjoy our Winter Wonderland.
X-ALT-DESC;FMTTYPE=text/html:Toys & Trees Wonderland Harlingen Arts & Heritage Museum Brings Tidings of Christmas Cheer in our first: Christmas at the Museum. This year we have a special Christmas treat! Toys and Trees have taken over... Remember your toys from yesteryear? WE sure do\, and we are ready to share them with you. On December 6\, 2011 get ready to take a trip back to the days of your youth and remember the ghosts of Christmas past. We have magical trees throughout the buildings and toys all ready and waiting for you. Don't be a Scrooge! Be here at 6:00pm\, to enjoy our Winter Wonderland. \n
LOCATION:
UID:e.1828.3287
SEQUENCE:3
DTSTAMP:20260420T225351Z
URL:https://business.harlingen.com/events/details/christmas-at-the-museum-12-06-2011-3287
END:VEVENT

END:VCALENDAR
