BEGIN:VCALENDAR
VERSION:2.0
PRODID:-//ChamberMaster//Event Calendar 2.0//EN
METHOD:PUBLISH
X-PUBLISHED-TTL:P3D
REFRESH-INTERVAL:P3D
CALSCALE:GREGORIAN
BEGIN:VEVENT
DTSTART:20111201T233000Z
DTEND:20111202T023000Z
X-MICROSOFT-CDO-ALLDAYEVENT:FALSE
SUMMARY:Christmas at the Ranch
DESCRIPTION:We're clearing out the warehouse and making room for a "Hill Country Christmas meets Rio Grande Valley Marketplace"  featuring products and services from 18 local vendors. Join us for some Christmas Cheer & Shopping! Giveaways\, great bargains\, food & drinks.
X-ALT-DESC;FMTTYPE=text/html:We're clearing out the warehouse and making room for a "Hill Country Christmas meets Rio Grande Valley Marketplace"  featuring products and services from 18 local vendors. Join us for some Christmas Cheer & Shopping! Giveaways\, great bargains\, food & drinks. 
LOCATION:South frontage road off Stuart Place EXIT
UID:e.1828.3260
SEQUENCE:3
DTSTAMP:20260420T225342Z
URL:https://business.harlingen.com/events/details/christmas-at-the-ranch-12-01-2011-3260
END:VEVENT

END:VCALENDAR
