BEGIN:VCALENDAR
VERSION:2.0
PRODID:-//ChamberMaster//Event Calendar 2.0//EN
METHOD:PUBLISH
X-PUBLISHED-TTL:P3D
REFRESH-INTERVAL:P3D
CALSCALE:GREGORIAN
BEGIN:VEVENT
DTSTART;VALUE=DATE:20101207
DTEND;VALUE=DATE:20110103
TRANSP:TRANSPARENT
X-MICROSOFT-CDO-ALLDAYEVENT:TRUE
SUMMARY:Christmas Tree Extravaganza Harlingen Arts & Heritage Museum
DESCRIPTION:Exhibit kicks off December 7th with a reception from 6:00 to 8:00 pm at the museum located at 2425 Boxwood open to the public at no charge.  Exhibit ends January 2nd.  For more information\, contact the museum at (956) 216-4901.
X-ALT-DESC;FMTTYPE=text/html:Exhibit kicks off December 7th with a reception from 6:00 to 8:00 pm at the museum located at 2425 Boxwood open to the public at no charge.  Exhibit ends January 2nd.  For more information\, contact the museum at (956) 216-4901.\n
LOCATION:
UID:e.1828.2692
SEQUENCE:3
DTSTAMP:20260421T154641Z
URL:https://business.harlingen.com/events/details/christmas-tree-extravaganza-harlingen-arts-heritage-museum-12-07-2010-2692
END:VEVENT

END:VCALENDAR
