BEGIN:VCALENDAR
VERSION:2.0
PRODID:-//ChamberMaster//Event Calendar 2.0//EN
METHOD:PUBLISH
X-PUBLISHED-TTL:P3D
REFRESH-INTERVAL:P3D
CALSCALE:GREGORIAN
BEGIN:VEVENT
DTSTART:20091209T000000Z
DTEND:20091208T140000Z
X-MICROSOFT-CDO-ALLDAYEVENT:FALSE
SUMMARY:Christmas Tree Extravaganza Reception
DESCRIPTION:Opening reception for the annual Christmas Tree Extravaganza.  Free to the public.
X-ALT-DESC;FMTTYPE=text/html:Opening reception for the annual Christmas Tree Extravaganza.  Free to the public.
LOCATION:
UID:e.1828.2044
SEQUENCE:3
DTSTAMP:20260422T125724Z
URL:https://business.harlingen.com/events/details/christmas-tree-extravaganza-reception-12-08-2009-2044
END:VEVENT

END:VCALENDAR
