BEGIN:VCALENDAR
VERSION:2.0
PRODID:-//ChamberMaster//Event Calendar 2.0//EN
METHOD:PUBLISH
X-PUBLISHED-TTL:P3D
REFRESH-INTERVAL:P3D
CALSCALE:GREGORIAN
BEGIN:VEVENT
DTSTART:20120428T000000Z
DTEND:20120428T020000Z
X-MICROSOFT-CDO-ALLDAYEVENT:FALSE
SUMMARY:Cinco de Mayo Celebration
DESCRIPTION:City of Harlingen celebrates the 150th anniversary of Cinco de Mayo. Performances by: The Grammy Nominated\, Mariachi Los Arrieros del Valle\, Chaac Percussion Group\, Gloria Canales Ballet Folklorico Group. Special Guests: Letty Garza from Channel 5 News. FREE ADMISSION
X-ALT-DESC;FMTTYPE=text/html:City of Harlingen celebrates the 150th anniversary of Cinco de Mayo. Performances by: The Grammy Nominated\, Mariachi Los Arrieros del Valle\, Chaac Percussion Group\, Gloria Canales Ballet Folklorico Group. Special Guests: Letty Garza from Channel 5 News. FREE ADMISSION
LOCATION:
UID:e.1828.3610
SEQUENCE:3
DTSTAMP:20260420T163313Z
URL:https://business.harlingen.com/events/details/cinco-de-mayo-celebration-04-27-2012-3610
END:VEVENT

END:VCALENDAR
