BEGIN:VCALENDAR
VERSION:2.0
PRODID:-//ChamberMaster//Event Calendar 2.0//EN
METHOD:PUBLISH
X-PUBLISHED-TTL:P3D
REFRESH-INTERVAL:P3D
CALSCALE:GREGORIAN
BEGIN:VEVENT
DTSTART;VALUE=DATE:20100903
DTEND;VALUE=DATE:20100906
TRANSP:TRANSPARENT
X-MICROSOFT-CDO-ALLDAYEVENT:TRUE
SUMMARY:CINESOL 36-HOUR FILM RACE
DESCRIPTION:CINESOL 36 HR. FILM RACE COMES TO LIFE SOMETIME BEFORE MIDNIGHT ON SEPTEMBER 3rd 2010!\nCINESOL 36 is a great opportunity to unite the South Texas and Mexico Border film community for some FFR (Fun Friendly Rivalry). With only 36 hours to complete a digital film\, a true assessment of talent\, ingenuity\, resourcefulness\, creativity and poise under pressure will be highlighted and come to life before everyone's eyes. All teams will be given the same instructions\, to create a no more than 10-minute film on a given theme\, using a given prop or dialogue and possibly including a ''secret location''\, all of which will be determined at the Kick-Off meeting after Registration closes. The teams will all interpret the same theme\, but the films are sure to exhibit an interesting range in interpretation and technique. Films will be judged that following weekend and depending on the number of entries\, most films will be screened at the CineSol ''Bravo Night'' which will end with the announcement of different achievement awards and highlight the highly sought CineSol "Bravo Award".\nREGISTRATION\, THE KICK-OFF MEETING AND FINAL FILM DELIVERY SCHEDULE:  Friday\, September 3rd \nRegistration & Check-In at Citrus Digitalfrom 7:00pm - 9:00pm.  Kick-Off Meeting will start APPROXIMATELY after 9pm. YOU MUST REGISTER BETWEEN 7:00pm - 9:00pm.  OBJECTIVE: Review Rules\, Discuss other Logistics\, Announce "Themes and Film Criteria".  Race Kick-Off ESTIMATED STARTING TIME IS 10:00pm.  Sunday\, September 5th Final Film Delivery at Citrus Digital.  Sunday\, September 12th is 36 HR. FILM RACE Bravo Night \nScreening and Awards Presentation.  Schedule of Film Screening To Be Announced at ''Kick' Off'' Meeting and Posted on CineSol website.  36 Hr Team Participants – Free with Race bracelet.  General Admission $10 per person.  Get the forms and all the details at http://cinesol.com/Film-Race.
X-ALT-DESC;FMTTYPE=text/html:CINESOL 36 HR. FILM RACE COMES TO LIFE SOMETIME BEFORE MIDNIGHT ON SEPTEMBER 3rd 2010!\nCINESOL 36 is a great opportunity to unite the South Texas and Mexico Border film community for some FFR (Fun Friendly Rivalry). With only 36 hours to complete a digital film\, a true assessment of talent\, ingenuity\, resourcefulness\, creativity and poise under pressure will be highlighted and come to life before everyone's eyes. All teams will be given the same instructions\, to create a no more than 10-minute film on a given theme\, using a given prop or dialogue and possibly including a ''secret location''\, all of which will be determined at the Kick-Off meeting after Registration closes. The teams will all interpret the same theme\, but the films are sure to exhibit an interesting range in interpretation and technique. Films will be judged that following weekend and depending on the number of entries\, most films will be screened at the CineSol ''Bravo Night'' which will end with the announcement of different achievement awards and highlight the highly sought CineSol "Bravo Award".\nREGISTRATION\, THE KICK-OFF MEETING AND FINAL FILM DELIVERY SCHEDULE:  Friday\, September 3rd \nRegistration & Check-In at Citrus Digitalfrom 7:00pm - 9:00pm.  Kick-Off Meeting will start APPROXIMATELY after 9pm. YOU MUST REGISTER BETWEEN 7:00pm - 9:00pm.  OBJECTIVE: Review Rules\, Discuss other Logistics\, Announce "Themes and Film Criteria".  Race Kick-Off ESTIMATED STARTING TIME IS 10:00pm.  Sunday\, September 5th Final Film Delivery at Citrus Digital.  Sunday\, September 12th is 36 HR. FILM RACE Bravo Night \nScreening and Awards Presentation.  Schedule of Film Screening To Be Announced at ''Kick' Off'' Meeting and Posted on CineSol website.  36 Hr Team Participants – Free with Race bracelet.  General Admission $10 per person.  Get the forms and all the details at http://cinesol.com/Film-Race.\n\n
LOCATION:
UID:e.1828.2738
SEQUENCE:3
DTSTAMP:20260421T223159Z
URL:https://business.harlingen.com/events/details/cinesol-36-hour-film-race-09-03-2010-2738
END:VEVENT

END:VCALENDAR
