BEGIN:VCALENDAR
VERSION:2.0
PRODID:-//ChamberMaster//Event Calendar 2.0//EN
METHOD:PUBLISH
X-PUBLISHED-TTL:P3D
REFRESH-INTERVAL:P3D
CALSCALE:GREGORIAN
BEGIN:VEVENT
DTSTART;VALUE=DATE:20110430
DTEND;VALUE=DATE:20110501
TRANSP:TRANSPARENT
X-MICROSOFT-CDO-ALLDAYEVENT:TRUE
SUMMARY:CineSol Film Festival
DESCRIPTION:April 30 - May 1\nCineSol Film Festival is expecting some fierce completion at its 24 Hour Dash\; Recognizing Great Value in the Arts of the Rio Grande Valley.\nSelf-submit your events to Central Arts calendar using instructions at www.ArtsRGV.com for more information\ncall 956-793-8783 or visit at www.cinesol.com
X-ALT-DESC;FMTTYPE=text/html:April 30 - May 1\nCineSol Film Festival is expecting some fierce completion at its 24 Hour Dash\; Recognizing Great Value in the Arts of the Rio Grande Valley.\nSelf-submit your events to Central Arts calendar using instructions at www.ArtsRGV.com for more information\ncall 956-793-8783 or visit at www.cinesol.com \n
LOCATION:
UID:e.1828.3027
SEQUENCE:3
DTSTAMP:20260421T113040Z
URL:https://business.harlingen.com/events/details/cinesol-film-festival-04-30-2011-3027
END:VEVENT

END:VCALENDAR
