BEGIN:VCALENDAR
VERSION:2.0
PRODID:-//ChamberMaster//Event Calendar 2.0//EN
METHOD:PUBLISH
X-PUBLISHED-TTL:P3D
REFRESH-INTERVAL:P3D
CALSCALE:GREGORIAN
BEGIN:VEVENT
DTSTART;VALUE=DATE:20110910
DTEND;VALUE=DATE:20110912
TRANSP:TRANSPARENT
X-MICROSOFT-CDO-ALLDAYEVENT:TRUE
SUMMARY:CineSol Film Festival
DESCRIPTION:CineSol Film Festival\nSaturday\, September 10 - Sunday\, September 11 \nTSTC in Harlingen\nCineSol Film Festival 2011 is set for their Opening Weekend at TSTC in Harlingen on September 10-11! \nScreenings start at noon both Saturday and Sunday at the TSTC Cultural Arts Center in Harlingen.  All TSTC students\, faculty and staff get in free with a valid ID.  Each individual event is $5 except for The Trainee/El Ambulante and the Results of the 36 Hour Film Race.  The admission for those two events is $10. \nWebsite: www.cinesol.com
X-ALT-DESC;FMTTYPE=text/html:CineSol Film Festival\nSaturday\, September 10 - Sunday\, September 11 \nTSTC in Harlingen\nCineSol Film Festival 2011 is set for their Opening Weekend at TSTC in Harlingen on September 10-11! \nScreenings start at noon both Saturday and Sunday at the TSTC Cultural Arts Center in Harlingen.  All TSTC students\, faculty and staff get in free with a valid ID.  Each individual event is $5 except for The Trainee/El Ambulante and the Results of the 36 Hour Film Race.  The admission for those two events is $10. \nWebsite: www.cinesol.com
LOCATION:
UID:e.1828.3156
SEQUENCE:3
DTSTAMP:20260421T052918Z
URL:https://business.harlingen.com/events/details/cinesol-film-festival-09-10-2011-3156
END:VEVENT

END:VCALENDAR
