BEGIN:VCALENDAR
VERSION:2.0
PRODID:-//ChamberMaster//Event Calendar 2.0//EN
METHOD:PUBLISH
X-PUBLISHED-TTL:P3D
REFRESH-INTERVAL:P3D
CALSCALE:GREGORIAN
BEGIN:VEVENT
DTSTART:20120728T133000Z
DTEND:20120728T133000Z
X-MICROSOFT-CDO-ALLDAYEVENT:FALSE
SUMMARY:CIS 2012 Charity Golf Tournament
DESCRIPTION:Communities In Schools of Cameron County will be hosting the 2012 Charity Golf Tournament\, proceeds to benefit children in Cameron County ISD's. Tee time: 8:30 AM\, Place: Valley International Country Club (VICC) Brownsville TX. Donation: $60.00 per player includes green fee\, cart and food\, longest drive\, closest to the pin and Hole in One. Format: 3 Person Florida Scramble (A\,B\, and C Player Per Team) All handicaps will be verified. Cash Prizes: First place $400\, Second place $300\, Third place $200. Door prizes to be given away. We hope to see you. For more information contact CIS at 9565547954.
X-ALT-DESC;FMTTYPE=text/html:Communities In Schools of Cameron County will be hosting the 2012 Charity Golf Tournament\, proceeds to benefit children in Cameron County ISD's. Tee time: 8:30 AM\, Place: Valley International Country Club (VICC) Brownsville TX. Donation: $60.00 per player includes green fee\, cart and food\, longest drive\, closest to the pin and Hole in One. Format: 3 Person Florida Scramble (A\,B\, and C Player Per Team) All handicaps will be verified. Cash Prizes: First place $400\, Second place $300\, Third place $200. Door prizes to be given away. We hope to see you. For more information contact CIS at 9565547954.
LOCATION:Valley International Country Club (VICC)
UID:e.1828.3990
SEQUENCE:3
DTSTAMP:20260420T131940Z
URL:https://business.harlingen.com/events/details/cis-2012-charity-golf-tournament-07-28-2012-3990
END:VEVENT

END:VCALENDAR
