BEGIN:VCALENDAR
VERSION:2.0
PRODID:-//ChamberMaster//Event Calendar 2.0//EN
METHOD:PUBLISH
X-PUBLISHED-TTL:P3D
REFRESH-INTERVAL:P3D
CALSCALE:GREGORIAN
BEGIN:VEVENT
DTSTART:20100327T130000Z
DTEND:20100327T170000Z
X-MICROSOFT-CDO-ALLDAYEVENT:FALSE
SUMMARY:City Landscaping Clean Up Event
DESCRIPTION:What:  Landscaping Clean Up Event\n\nVolunteers will be raking\, pulling weeds\, picking up litter\, and sprucing up landscaping points around the city and along the expressway.  \n\nWhen:  Saturday\, March 27\, 2010 from 8:00 am – 12:00 pm. \n\nWhere:  Meet at the City Hall Parking lot on Tyler across from the Bank of America Drive through facility – to meet your team leader (or get instructions) and get your location\n\nBring:  Gloves\, rakes\, garden hoes\, brooms\, clippers\, and a smile!\n\nWe will provide waters\, t-shirts\, and trash bags!\n\nPlease register your group by email (preferred) or by calling Mandy at 956-216-5302.\n\nThank you so much for continuing to Keep Harlingen Beautiful!
X-ALT-DESC;FMTTYPE=text/html:What:  Landscaping Clean Up Event\n\nVolunteers will be raking\, pulling weeds\, picking up litter\, and sprucing up landscaping points around the city and along the expressway.  \n\nWhen:  Saturday\, March 27\, 2010 from 8:00 am – 12:00 pm. \n\nWhere:  Meet at the City Hall Parking lot on Tyler across from the Bank of America Drive through facility – to meet your team leader (or get instructions) and get your location\n\nBring:  Gloves\, rakes\, garden hoes\, brooms\, clippers\, and a smile!\n\nWe will provide waters\, t-shirts\, and trash bags!\n\nPlease register your group by email (preferred) or by calling Mandy at 956-216-5302.\n\nThank you so much for continuing to Keep Harlingen Beautiful!\n
LOCATION:Meet at the City Hall Parking lot across from the Bank of America Drive through facility.
UID:e.1828.2459
SEQUENCE:3
DTSTAMP:20260422T080857Z
URL:https://business.harlingen.com/events/details/city-landscaping-clean-up-event-03-27-2010-2459
END:VEVENT

END:VCALENDAR
