BEGIN:VCALENDAR
VERSION:2.0
PRODID:-//ChamberMaster//Event Calendar 2.0//EN
METHOD:PUBLISH
X-PUBLISHED-TTL:P3D
REFRESH-INTERVAL:P3D
CALSCALE:GREGORIAN
BEGIN:VEVENT
DTSTART:20111202T003000Z
DTEND:20111202T003000Z
X-MICROSOFT-CDO-ALLDAYEVENT:FALSE
SUMMARY:City of Harlingen 25th Arroyo Holiday Lighting
DESCRIPTION:Celebrating the Holiday Season Together! Special appearance by Santa Claus. For more information\, please call the Harlingen Parks and Recreation Department at (956) 216-5950 located at 502 E. Tyler
X-ALT-DESC;FMTTYPE=text/html:Celebrating the Holiday Season Together! Special appearance by Santa Claus. For more information\, please call the Harlingen Parks and Recreation Department at (956) 216-5950 located at 502 E. Tyler\n
LOCATION:
UID:e.1828.3275
SEQUENCE:3
DTSTAMP:20260420T225716Z
URL:https://business.harlingen.com/events/details/city-of-harlingen-25th-arroyo-holiday-lighting-12-01-2011-3275
END:VEVENT

END:VCALENDAR
