BEGIN:VCALENDAR
VERSION:2.0
PRODID:-//ChamberMaster//Event Calendar 2.0//EN
METHOD:PUBLISH
X-PUBLISHED-TTL:P3D
REFRESH-INTERVAL:P3D
CALSCALE:GREGORIAN
BEGIN:VEVENT
DTSTART:20120915T000000Z
DTEND:20120915T000000Z
X-MICROSOFT-CDO-ALLDAYEVENT:FALSE
SUMMARY:City of Harlingen Annual Mexican Independence Day Celebration
DESCRIPTION:The City of Harlingen is proud to announce the Annual Mexican Independence Day Celebration taking place at the beautiful Harlingen Municipal Auditorium. We welcome and encourage the community and out-of-town guests to attend this FREE celebration of Mexican culture and enjoy an evening of exceptional entertainment. The evening's entainment will include Grammy nominated Mariachi Los Arrieros del Valle and performances by the award winning La Joya Ballet Folklorico dancers and Mariachi Bands.
X-ALT-DESC;FMTTYPE=text/html:The City of Harlingen is proud to announce the Annual Mexican Independence Day Celebration taking place at the beautiful Harlingen Municipal Auditorium. We welcome and encourage the community and out-of-town guests to attend this FREE celebration of Mexican culture and enjoy an evening of exceptional entertainment. The evening's entainment will include Grammy nominated Mariachi Los Arrieros del Valle and performances by the award winning La Joya Ballet Folklorico dancers and Mariachi Bands.
LOCATION:
UID:e.1828.3924
SEQUENCE:3
DTSTAMP:20260420T102647Z
URL:https://business.harlingen.com/events/details/city-of-harlingen-annual-mexican-independence-day-celebration-09-14-2012-3924
END:VEVENT

END:VCALENDAR
