BEGIN:VCALENDAR
VERSION:2.0
PRODID:-//ChamberMaster//Event Calendar 2.0//EN
METHOD:PUBLISH
X-PUBLISHED-TTL:P3D
REFRESH-INTERVAL:P3D
CALSCALE:GREGORIAN
BEGIN:VEVENT
DTSTART:20120224T170000Z
DTEND:20120224T170000Z
X-MICROSOFT-CDO-ALLDAYEVENT:FALSE
SUMMARY:City of Harlingen Buchanan\, Hays & "M" Street Drainage Groundbreaking
DESCRIPTION:Welcome-Carlos Yerena\, City Manager\nSpeaker- Jerry Prepejchal\, Mayor Pro-Tem
X-ALT-DESC;FMTTYPE=text/html:Welcome-Carlos Yerena\, City Manager\nSpeaker- Jerry Prepejchal\, Mayor Pro-Tem
LOCATION:
UID:e.1828.3419
SEQUENCE:3
DTSTAMP:20260420T213747Z
URL:https://business.harlingen.com/events/details/city-of-harlingen-buchanan-hays-m-street-drainage-groundbreaking-02-24-2012-3419
END:VEVENT

END:VCALENDAR
