BEGIN:VCALENDAR
VERSION:2.0
PRODID:-//ChamberMaster//Event Calendar 2.0//EN
METHOD:PUBLISH
X-PUBLISHED-TTL:P3D
REFRESH-INTERVAL:P3D
CALSCALE:GREGORIAN
BEGIN:VEVENT
DTSTART:20120109T223000Z
DTEND:20120109T223000Z
X-MICROSOFT-CDO-ALLDAYEVENT:FALSE
SUMMARY:City of Harlingen Reception in Honor of Gus Ruiz City Commissioner\, District 1/ Danny Castillo Newly Elected City Commis
DESCRIPTION:The City of Harlingen cordially invites you to a reception in honor of Gus Ruiz - Outgoing City Commissioner\, District 1 & Danny Castillo - Newly Elected City Commissioner\, District 1. Please stop by to thank Gus Ruiz for his dedicated service to the citizens of Harlingen and come and congratulate newly elected City Commissioner\, Danny Castillo. If you have any questions\, please contact Amanda Elizondo\, City Secretary at (956) 216-5001 or 216-5002. (Refreshments and cookies will be served.)
X-ALT-DESC;FMTTYPE=text/html:The City of Harlingen cordially invites you to a reception in honor of Gus Ruiz - Outgoing City Commissioner\, District 1 & Danny Castillo - Newly Elected City Commissioner\, District 1. Please stop by to thank Gus Ruiz for his dedicated service to the citizens of Harlingen and come and congratulate newly elected City Commissioner\, Danny Castillo. If you have any questions\, please contact Amanda Elizondo\, City Secretary at (956) 216-5001 or 216-5002. (Refreshments and cookies will be served.)  \n
LOCATION:
UID:e.1828.3365
SEQUENCE:3
DTSTAMP:20260420T213804Z
URL:https://business.harlingen.com/events/details/city-of-harlingen-reception-in-honor-of-gus-ruiz-city-commissioner-district-1-danny-castillo-newly-elected-city-commis-01-09-2012-3365
END:VEVENT

END:VCALENDAR
