BEGIN:VCALENDAR
VERSION:2.0
PRODID:-//ChamberMaster//Event Calendar 2.0//EN
METHOD:PUBLISH
X-PUBLISHED-TTL:P3D
REFRESH-INTERVAL:P3D
CALSCALE:GREGORIAN
BEGIN:VEVENT
DTSTART:20110624T140000Z
DTEND:20110624T140000Z
X-MICROSOFT-CDO-ALLDAYEVENT:FALSE
SUMMARY:City of Harlingen/Renewable Energy Solar Project
DESCRIPTION:Join in celebrating the completion of The City of Harlingen's Renewable Energy Solar Project. Refreshment will be served.
X-ALT-DESC;FMTTYPE=text/html:Join in celebrating the completion of The City of Harlingen's Renewable Energy Solar Project. Refreshment will be served.
LOCATION:
UID:e.1828.3075
SEQUENCE:3
DTSTAMP:20260421T082107Z
URL:https://business.harlingen.com/events/details/city-of-harlingen-renewable-energy-solar-project-06-24-2011-3075
END:VEVENT

END:VCALENDAR
