BEGIN:VCALENDAR
VERSION:2.0
PRODID:-//ChamberMaster//Event Calendar 2.0//EN
METHOD:PUBLISH
X-PUBLISHED-TTL:P3D
REFRESH-INTERVAL:P3D
CALSCALE:GREGORIAN
BEGIN:VEVENT
DTSTART:20120819T000000Z
DTEND:20120819T040000Z
X-MICROSOFT-CDO-ALLDAYEVENT:FALSE
SUMMARY:City of Harlingen's 12th Annual Blues on the Hill
DESCRIPTION:Blues on the Hill proudly presents W.C. Clark with special guests\, Roy Trevino & The Furytones!  Admission is FREE!  Bring your blankets and lawn chairs! For information call City of Harlingen\, Parks & Recreation Dept. Esmeralda Martinez 956-216-5952 or e-mail emartinez@myharlingen.us
X-ALT-DESC;FMTTYPE=text/html:Blues on the Hill proudly presents W.C. Clark with special guests\, Roy Trevino & The Furytones!  Admission is FREE!  Bring your blankets and lawn chairs! For information call City of Harlingen\, Parks & Recreation Dept. Esmeralda Martinez 956-216-5952 or e-mail emartinez@myharlingen.us
LOCATION:
UID:e.1828.3587
SEQUENCE:3
DTSTAMP:20260420T101918Z
URL:https://business.harlingen.com/events/details/city-of-harlingen-s-12th-annual-blues-on-the-hill-08-18-2012-3587
END:VEVENT

END:VCALENDAR
