BEGIN:VCALENDAR
VERSION:2.0
PRODID:-//ChamberMaster//Event Calendar 2.0//EN
METHOD:PUBLISH
X-PUBLISHED-TTL:P3D
REFRESH-INTERVAL:P3D
CALSCALE:GREGORIAN
BEGIN:VEVENT
DTSTART:20120517T000000Z
DTEND:20120517T040000Z
X-MICROSOFT-CDO-ALLDAYEVENT:FALSE
SUMMARY:City of Harlingen's 12th Annual Blues on the Hill Concert Series
DESCRIPTION:For more information contact the Harlingen Parks and Recreation Dept. @ (956) 216-5950.
X-ALT-DESC;FMTTYPE=text/html:For more information contact the Harlingen Parks and Recreation Dept. @ (956) 216-5950.     \n
LOCATION:
UID:e.1828.3661
SEQUENCE:3
DTSTAMP:20260420T151422Z
URL:https://business.harlingen.com/events/details/city-of-harlingen-s-12th-annual-blues-on-the-hill-concert-series-05-16-2012-3661
END:VEVENT

END:VCALENDAR
