BEGIN:VCALENDAR
VERSION:2.0
PRODID:-//ChamberMaster//Event Calendar 2.0//EN
METHOD:PUBLISH
X-PUBLISHED-TTL:P3D
REFRESH-INTERVAL:P3D
CALSCALE:GREGORIAN
BEGIN:VEVENT
DTSTART:20120518T140000Z
DTEND:20120518T140000Z
X-MICROSOFT-CDO-ALLDAYEVENT:FALSE
SUMMARY:City of Harlingen/Treasure Hills Extension Project Ribbon Cutting
DESCRIPTION:Come join us and celebrate this new addition!
X-ALT-DESC;FMTTYPE=text/html:Come join us and celebrate this new addition! \n
LOCATION:
UID:e.1828.3638
SEQUENCE:3
DTSTAMP:20260420T164048Z
URL:https://business.harlingen.com/events/details/city-of-harlingen-treasure-hills-extension-project-ribbon-cutting-05-18-2012-3638
END:VEVENT

END:VCALENDAR
