BEGIN:VCALENDAR
VERSION:2.0
PRODID:-//ChamberMaster//Event Calendar 2.0//EN
METHOD:PUBLISH
X-PUBLISHED-TTL:P3D
REFRESH-INTERVAL:P3D
CALSCALE:GREGORIAN
BEGIN:VEVENT
DTSTART:20110618T190000Z
DTEND:20110618T220000Z
X-MICROSOFT-CDO-ALLDAYEVENT:FALSE
SUMMARY:CITY OF PORT ISABEL is hosting 'Hurricane Insurance Town Hall Forum'
DESCRIPTION:CITY OF PORT ISABEL \n"An Equal Opportunity Employer" \n305 East Maxan Port Isabel\, Texas 78578 \n(956) 943-2682 \n(956) 943-2029 Facsimile \n  \nGreetings\,  \nThe City of Port Isabel is hosting a 'Hurricane Insurance Town Hall Forum' to be held Saturday June 18\, 2011 from 2 to 5pm.  This Town Hall Forum will be held at the South Padre Island Convention Center\, 7355 South Padre Island\, TX 78578 \nWith the approaching Hurricane Season and expert predictions of ever increasing numbers and severity of hurricanes expected to hit the Texas coast\, it is crucially important for coastal property owners to understand the changes being made by our Texas Legislature to our hurricane insurance coverage.    \nAll South Texas coastal communities and area leaders have been invited.  Realtors\, Chambers of Commerce\, business owners\, homeowners\, civic associations and leaders...ALL are invited and many are expected to attend.   \nWe sincerely invite you to attend and join in this important forum as we learn and plan for the future of the Texas Gulf Coast.  If there is any question please call me at your convenience. \n\nCity Manager City of Port Isabel\, Texas
X-ALT-DESC;FMTTYPE=text/html: CITY OF PORT ISABEL \n"An Equal Opportunity Employer" \n305 East Maxan Port Isabel\, Texas 78578 \n(956) 943-2682 \n(956) 943-2029 Facsimile \n  \nGreetings\,  \nThe City of Port Isabel is hosting a 'Hurricane Insurance Town Hall Forum' to be held Saturday June 18\, 2011 from 2 to 5pm.  This Town Hall Forum will be held at the South Padre Island Convention Center\, 7355 South Padre Island\, TX 78578 \nWith the approaching Hurricane Season and expert predictions of ever increasing numbers and severity of hurricanes expected to hit the Texas coast\, it is crucially important for coastal property owners to understand the changes being made by our Texas Legislature to our hurricane insurance coverage.    \nAll South Texas coastal communities and area leaders have been invited.  Realtors\, Chambers of Commerce\, business owners\, homeowners\, civic associations and leaders...ALL are invited and many are expected to attend.   \nWe sincerely invite you to attend and join in this important forum as we learn and plan for the future of the Texas Gulf Coast.  If there is any question please call me at your convenience. \n\nCity Manager City of Port Isabel\, Texas \n \n \n\n\n \n\n
LOCATION:
UID:e.1828.3085
SEQUENCE:3
DTSTAMP:20260421T095005Z
URL:https://business.harlingen.com/events/details/city-of-port-isabel-is-hosting-hurricane-insurance-town-hall-forum-06-18-2011-3085
END:VEVENT

END:VCALENDAR
